BEGIN:VCALENDAR
VERSION:2.0
PRODID:-//ASB - ECPv6.15.18//NONSGML v1.0//EN
CALSCALE:GREGORIAN
METHOD:PUBLISH
X-ORIGINAL-URL:https://asb-mb.de
X-WR-CALDESC:Veranstaltungen für ASB
REFRESH-INTERVAL;VALUE=DURATION:PT1H
X-Robots-Tag:noindex
X-PUBLISHED-TTL:PT1H
BEGIN:VTIMEZONE
TZID:Europe/Helsinki
BEGIN:DAYLIGHT
TZOFFSETFROM:+0200
TZOFFSETTO:+0300
TZNAME:EEST
DTSTART:20260329T010000
END:DAYLIGHT
BEGIN:STANDARD
TZOFFSETFROM:+0300
TZOFFSETTO:+0200
TZNAME:EET
DTSTART:20261025T010000
END:STANDARD
BEGIN:DAYLIGHT
TZOFFSETFROM:+0200
TZOFFSETTO:+0300
TZNAME:EEST
DTSTART:20270328T010000
END:DAYLIGHT
BEGIN:STANDARD
TZOFFSETFROM:+0300
TZOFFSETTO:+0200
TZNAME:EET
DTSTART:20271031T010000
END:STANDARD
BEGIN:DAYLIGHT
TZOFFSETFROM:+0200
TZOFFSETTO:+0300
TZNAME:EEST
DTSTART:20280326T010000
END:DAYLIGHT
BEGIN:STANDARD
TZOFFSETFROM:+0300
TZOFFSETTO:+0200
TZNAME:EET
DTSTART:20281029T010000
END:STANDARD
END:VTIMEZONE
BEGIN:VEVENT
DTSTART;TZID=Europe/Helsinki:20270507T103000
DTEND;TZID=Europe/Helsinki:20270507T113000
DTSTAMP:20260424T110901
CREATED:20250114T084749Z
LAST-MODIFIED:20250114T084749Z
UID:10005227-1809685800-1809689400@asb-mb.de
SUMMARY:Sportgruppe "Mit Sport dabei"
DESCRIPTION:Mehr Informationen
URL:https://asb-mb.de/single-event/sportgruppe-mit-sport-dabei-3/2027-05-07/
LOCATION:Bürgertreff Königs Wusterhausen\, Herderstraße 8-9\, Königs Wusterhausen\, 15711
CATEGORIES:Demenz
END:VEVENT
BEGIN:VEVENT
DTSTART;TZID=Europe/Helsinki:20270511T100000
DTEND;TZID=Europe/Helsinki:20270511T130000
DTSTAMP:20260424T110901
CREATED:20250114T084850Z
LAST-MODIFIED:20250114T084850Z
UID:10005488-1810029600-1810040400@asb-mb.de
SUMMARY:Betreuungsgruppe Menschen mit Demenz
DESCRIPTION:Mehr Informationen
URL:https://asb-mb.de/single-event/betreuungsgruppe-menschen-mit-demenz-2/2027-05-11/
LOCATION:Bürgertreff Königs Wusterhausen\, Herderstraße 8-9\, Königs Wusterhausen\, 15711
CATEGORIES:Demenz
END:VEVENT
BEGIN:VEVENT
DTSTART;TZID=Europe/Helsinki:20270514T093000
DTEND;TZID=Europe/Helsinki:20270514T103000
DTSTAMP:20260424T110901
CREATED:20250114T084740Z
LAST-MODIFIED:20250114T084741Z
UID:10004968-1810287000-1810290600@asb-mb.de
SUMMARY:Sportgruppe "Mit Sport dabei"
DESCRIPTION:Mehr Informationen
URL:https://asb-mb.de/single-event/sportgruppe-mit-sport-dabei-2-2/2027-05-14/
LOCATION:Bürgertreff Königs Wusterhausen\, Herderstraße 8-9\, Königs Wusterhausen\, 15711
CATEGORIES:Demenz
END:VEVENT
BEGIN:VEVENT
DTSTART;TZID=Europe/Helsinki:20270514T103000
DTEND;TZID=Europe/Helsinki:20270514T113000
DTSTAMP:20260424T110901
CREATED:20250114T084749Z
LAST-MODIFIED:20250114T084749Z
UID:10005228-1810290600-1810294200@asb-mb.de
SUMMARY:Sportgruppe "Mit Sport dabei"
DESCRIPTION:Mehr Informationen
URL:https://asb-mb.de/single-event/sportgruppe-mit-sport-dabei-3/2027-05-14/
LOCATION:Bürgertreff Königs Wusterhausen\, Herderstraße 8-9\, Königs Wusterhausen\, 15711
CATEGORIES:Demenz
END:VEVENT
BEGIN:VEVENT
DTSTART;TZID=Europe/Helsinki:20270518T100000
DTEND;TZID=Europe/Helsinki:20270518T130000
DTSTAMP:20260424T110901
CREATED:20250114T084850Z
LAST-MODIFIED:20250114T084850Z
UID:10005489-1810634400-1810645200@asb-mb.de
SUMMARY:Betreuungsgruppe Menschen mit Demenz
DESCRIPTION:Mehr Informationen
URL:https://asb-mb.de/single-event/betreuungsgruppe-menschen-mit-demenz-2/2027-05-18/
LOCATION:Bürgertreff Königs Wusterhausen\, Herderstraße 8-9\, Königs Wusterhausen\, 15711
CATEGORIES:Demenz
END:VEVENT
BEGIN:VEVENT
DTSTART;TZID=Europe/Helsinki:20270520T120000
DTEND;TZID=Europe/Helsinki:20270520T140000
DTSTAMP:20260424T110901
CREATED:20250114T084142Z
LAST-MODIFIED:20250114T084142Z
UID:10004756-1810814400-1810821600@asb-mb.de
SUMMARY:Angehörigengruppe Menschen mit Demenz
DESCRIPTION:Mehr Informationen
URL:https://asb-mb.de/single-event/angehoerigengruppe-menschen-mit-demenz-2/2027-05-20/
CATEGORIES:Demenz
END:VEVENT
BEGIN:VEVENT
DTSTART;TZID=Europe/Helsinki:20270521T093000
DTEND;TZID=Europe/Helsinki:20270521T103000
DTSTAMP:20260424T110901
CREATED:20250114T084740Z
LAST-MODIFIED:20250114T084741Z
UID:10004969-1810891800-1810895400@asb-mb.de
SUMMARY:Sportgruppe "Mit Sport dabei"
DESCRIPTION:Mehr Informationen
URL:https://asb-mb.de/single-event/sportgruppe-mit-sport-dabei-2-2/2027-05-21/
LOCATION:Bürgertreff Königs Wusterhausen\, Herderstraße 8-9\, Königs Wusterhausen\, 15711
CATEGORIES:Demenz
END:VEVENT
BEGIN:VEVENT
DTSTART;TZID=Europe/Helsinki:20270521T103000
DTEND;TZID=Europe/Helsinki:20270521T113000
DTSTAMP:20260424T110901
CREATED:20250114T084749Z
LAST-MODIFIED:20250114T084749Z
UID:10005229-1810895400-1810899000@asb-mb.de
SUMMARY:Sportgruppe "Mit Sport dabei"
DESCRIPTION:Mehr Informationen
URL:https://asb-mb.de/single-event/sportgruppe-mit-sport-dabei-3/2027-05-21/
LOCATION:Bürgertreff Königs Wusterhausen\, Herderstraße 8-9\, Königs Wusterhausen\, 15711
CATEGORIES:Demenz
END:VEVENT
BEGIN:VEVENT
DTSTART;TZID=Europe/Helsinki:20270525T100000
DTEND;TZID=Europe/Helsinki:20270525T130000
DTSTAMP:20260424T110901
CREATED:20250114T084850Z
LAST-MODIFIED:20250114T084850Z
UID:10005490-1811239200-1811250000@asb-mb.de
SUMMARY:Betreuungsgruppe Menschen mit Demenz
DESCRIPTION:Mehr Informationen
URL:https://asb-mb.de/single-event/betreuungsgruppe-menschen-mit-demenz-2/2027-05-25/
LOCATION:Bürgertreff Königs Wusterhausen\, Herderstraße 8-9\, Königs Wusterhausen\, 15711
CATEGORIES:Demenz
END:VEVENT
BEGIN:VEVENT
DTSTART;TZID=Europe/Helsinki:20270528T093000
DTEND;TZID=Europe/Helsinki:20270528T103000
DTSTAMP:20260424T110901
CREATED:20250114T084740Z
LAST-MODIFIED:20250114T084741Z
UID:10004970-1811496600-1811500200@asb-mb.de
SUMMARY:Sportgruppe "Mit Sport dabei"
DESCRIPTION:Mehr Informationen
URL:https://asb-mb.de/single-event/sportgruppe-mit-sport-dabei-2-2/2027-05-28/
LOCATION:Bürgertreff Königs Wusterhausen\, Herderstraße 8-9\, Königs Wusterhausen\, 15711
CATEGORIES:Demenz
END:VEVENT
BEGIN:VEVENT
DTSTART;TZID=Europe/Helsinki:20270528T103000
DTEND;TZID=Europe/Helsinki:20270528T113000
DTSTAMP:20260424T110901
CREATED:20250114T084749Z
LAST-MODIFIED:20250114T084749Z
UID:10005230-1811500200-1811503800@asb-mb.de
SUMMARY:Sportgruppe "Mit Sport dabei"
DESCRIPTION:Mehr Informationen
URL:https://asb-mb.de/single-event/sportgruppe-mit-sport-dabei-3/2027-05-28/
LOCATION:Bürgertreff Königs Wusterhausen\, Herderstraße 8-9\, Königs Wusterhausen\, 15711
CATEGORIES:Demenz
END:VEVENT
BEGIN:VEVENT
DTSTART;TZID=Europe/Helsinki:20270601T100000
DTEND;TZID=Europe/Helsinki:20270601T130000
DTSTAMP:20260424T110901
CREATED:20250114T084850Z
LAST-MODIFIED:20250114T084850Z
UID:10005491-1811844000-1811854800@asb-mb.de
SUMMARY:Betreuungsgruppe Menschen mit Demenz
DESCRIPTION:Mehr Informationen
URL:https://asb-mb.de/single-event/betreuungsgruppe-menschen-mit-demenz-2/2027-06-01/
LOCATION:Bürgertreff Königs Wusterhausen\, Herderstraße 8-9\, Königs Wusterhausen\, 15711
CATEGORIES:Demenz
END:VEVENT
BEGIN:VEVENT
DTSTART;TZID=Europe/Helsinki:20270603T170000
DTEND;TZID=Europe/Helsinki:20270603T190000
DTSTAMP:20260424T110901
CREATED:20250114T084422Z
LAST-MODIFIED:20250114T084422Z
UID:10004816-1812042000-1812049200@asb-mb.de
SUMMARY:Angehörigengruppe Menschen mit Demenz
DESCRIPTION:Mehr Informationen
URL:https://asb-mb.de/single-event/angehoerigengruppe-menschen-mit-demenz-3/2027-06-03/
CATEGORIES:Demenz
END:VEVENT
BEGIN:VEVENT
DTSTART;TZID=Europe/Helsinki:20270604T093000
DTEND;TZID=Europe/Helsinki:20270604T103000
DTSTAMP:20260424T110901
CREATED:20250114T084740Z
LAST-MODIFIED:20250114T084741Z
UID:10004971-1812101400-1812105000@asb-mb.de
SUMMARY:Sportgruppe "Mit Sport dabei"
DESCRIPTION:Mehr Informationen
URL:https://asb-mb.de/single-event/sportgruppe-mit-sport-dabei-2-2/2027-06-04/
LOCATION:Bürgertreff Königs Wusterhausen\, Herderstraße 8-9\, Königs Wusterhausen\, 15711
CATEGORIES:Demenz
END:VEVENT
BEGIN:VEVENT
DTSTART;TZID=Europe/Helsinki:20270604T103000
DTEND;TZID=Europe/Helsinki:20270604T113000
DTSTAMP:20260424T110901
CREATED:20250114T084749Z
LAST-MODIFIED:20250114T084749Z
UID:10005231-1812105000-1812108600@asb-mb.de
SUMMARY:Sportgruppe "Mit Sport dabei"
DESCRIPTION:Mehr Informationen
URL:https://asb-mb.de/single-event/sportgruppe-mit-sport-dabei-3/2027-06-04/
LOCATION:Bürgertreff Königs Wusterhausen\, Herderstraße 8-9\, Königs Wusterhausen\, 15711
CATEGORIES:Demenz
END:VEVENT
BEGIN:VEVENT
DTSTART;TZID=Europe/Helsinki:20270608T100000
DTEND;TZID=Europe/Helsinki:20270608T130000
DTSTAMP:20260424T110901
CREATED:20250114T084850Z
LAST-MODIFIED:20250114T084850Z
UID:10005492-1812448800-1812459600@asb-mb.de
SUMMARY:Betreuungsgruppe Menschen mit Demenz
DESCRIPTION:Mehr Informationen
URL:https://asb-mb.de/single-event/betreuungsgruppe-menschen-mit-demenz-2/2027-06-08/
LOCATION:Bürgertreff Königs Wusterhausen\, Herderstraße 8-9\, Königs Wusterhausen\, 15711
CATEGORIES:Demenz
END:VEVENT
BEGIN:VEVENT
DTSTART;TZID=Europe/Helsinki:20270611T093000
DTEND;TZID=Europe/Helsinki:20270611T103000
DTSTAMP:20260424T110901
CREATED:20250114T084740Z
LAST-MODIFIED:20250114T084741Z
UID:10004972-1812706200-1812709800@asb-mb.de
SUMMARY:Sportgruppe "Mit Sport dabei"
DESCRIPTION:Mehr Informationen
URL:https://asb-mb.de/single-event/sportgruppe-mit-sport-dabei-2-2/2027-06-11/
LOCATION:Bürgertreff Königs Wusterhausen\, Herderstraße 8-9\, Königs Wusterhausen\, 15711
CATEGORIES:Demenz
END:VEVENT
BEGIN:VEVENT
DTSTART;TZID=Europe/Helsinki:20270611T103000
DTEND;TZID=Europe/Helsinki:20270611T113000
DTSTAMP:20260424T110901
CREATED:20250114T084749Z
LAST-MODIFIED:20250114T084749Z
UID:10005232-1812709800-1812713400@asb-mb.de
SUMMARY:Sportgruppe "Mit Sport dabei"
DESCRIPTION:Mehr Informationen
URL:https://asb-mb.de/single-event/sportgruppe-mit-sport-dabei-3/2027-06-11/
LOCATION:Bürgertreff Königs Wusterhausen\, Herderstraße 8-9\, Königs Wusterhausen\, 15711
CATEGORIES:Demenz
END:VEVENT
BEGIN:VEVENT
DTSTART;TZID=Europe/Helsinki:20270615T100000
DTEND;TZID=Europe/Helsinki:20270615T130000
DTSTAMP:20260424T110901
CREATED:20250114T084850Z
LAST-MODIFIED:20250114T084850Z
UID:10005493-1813053600-1813064400@asb-mb.de
SUMMARY:Betreuungsgruppe Menschen mit Demenz
DESCRIPTION:Mehr Informationen
URL:https://asb-mb.de/single-event/betreuungsgruppe-menschen-mit-demenz-2/2027-06-15/
LOCATION:Bürgertreff Königs Wusterhausen\, Herderstraße 8-9\, Königs Wusterhausen\, 15711
CATEGORIES:Demenz
END:VEVENT
BEGIN:VEVENT
DTSTART;TZID=Europe/Helsinki:20270617T120000
DTEND;TZID=Europe/Helsinki:20270617T140000
DTSTAMP:20260424T110901
CREATED:20250114T084142Z
LAST-MODIFIED:20250114T084142Z
UID:10004757-1813233600-1813240800@asb-mb.de
SUMMARY:Angehörigengruppe Menschen mit Demenz
DESCRIPTION:Mehr Informationen
URL:https://asb-mb.de/single-event/angehoerigengruppe-menschen-mit-demenz-2/2027-06-17/
CATEGORIES:Demenz
END:VEVENT
BEGIN:VEVENT
DTSTART;TZID=Europe/Helsinki:20270618T093000
DTEND;TZID=Europe/Helsinki:20270618T103000
DTSTAMP:20260424T110901
CREATED:20250114T084740Z
LAST-MODIFIED:20250114T084741Z
UID:10004973-1813311000-1813314600@asb-mb.de
SUMMARY:Sportgruppe "Mit Sport dabei"
DESCRIPTION:Mehr Informationen
URL:https://asb-mb.de/single-event/sportgruppe-mit-sport-dabei-2-2/2027-06-18/
LOCATION:Bürgertreff Königs Wusterhausen\, Herderstraße 8-9\, Königs Wusterhausen\, 15711
CATEGORIES:Demenz
END:VEVENT
BEGIN:VEVENT
DTSTART;TZID=Europe/Helsinki:20270618T103000
DTEND;TZID=Europe/Helsinki:20270618T113000
DTSTAMP:20260424T110901
CREATED:20250114T084749Z
LAST-MODIFIED:20250114T084749Z
UID:10005233-1813314600-1813318200@asb-mb.de
SUMMARY:Sportgruppe "Mit Sport dabei"
DESCRIPTION:Mehr Informationen
URL:https://asb-mb.de/single-event/sportgruppe-mit-sport-dabei-3/2027-06-18/
LOCATION:Bürgertreff Königs Wusterhausen\, Herderstraße 8-9\, Königs Wusterhausen\, 15711
CATEGORIES:Demenz
END:VEVENT
BEGIN:VEVENT
DTSTART;TZID=Europe/Helsinki:20270622T100000
DTEND;TZID=Europe/Helsinki:20270622T130000
DTSTAMP:20260424T110901
CREATED:20250114T084850Z
LAST-MODIFIED:20250114T084850Z
UID:10005494-1813658400-1813669200@asb-mb.de
SUMMARY:Betreuungsgruppe Menschen mit Demenz
DESCRIPTION:Mehr Informationen
URL:https://asb-mb.de/single-event/betreuungsgruppe-menschen-mit-demenz-2/2027-06-22/
LOCATION:Bürgertreff Königs Wusterhausen\, Herderstraße 8-9\, Königs Wusterhausen\, 15711
CATEGORIES:Demenz
END:VEVENT
BEGIN:VEVENT
DTSTART;TZID=Europe/Helsinki:20270625T093000
DTEND;TZID=Europe/Helsinki:20270625T103000
DTSTAMP:20260424T110901
CREATED:20250114T084740Z
LAST-MODIFIED:20250114T084741Z
UID:10004974-1813915800-1813919400@asb-mb.de
SUMMARY:Sportgruppe "Mit Sport dabei"
DESCRIPTION:Mehr Informationen
URL:https://asb-mb.de/single-event/sportgruppe-mit-sport-dabei-2-2/2027-06-25/
LOCATION:Bürgertreff Königs Wusterhausen\, Herderstraße 8-9\, Königs Wusterhausen\, 15711
CATEGORIES:Demenz
END:VEVENT
BEGIN:VEVENT
DTSTART;TZID=Europe/Helsinki:20270625T103000
DTEND;TZID=Europe/Helsinki:20270625T113000
DTSTAMP:20260424T110901
CREATED:20250114T084749Z
LAST-MODIFIED:20250114T084749Z
UID:10005234-1813919400-1813923000@asb-mb.de
SUMMARY:Sportgruppe "Mit Sport dabei"
DESCRIPTION:Mehr Informationen
URL:https://asb-mb.de/single-event/sportgruppe-mit-sport-dabei-3/2027-06-25/
LOCATION:Bürgertreff Königs Wusterhausen\, Herderstraße 8-9\, Königs Wusterhausen\, 15711
CATEGORIES:Demenz
END:VEVENT
BEGIN:VEVENT
DTSTART;TZID=Europe/Helsinki:20270629T100000
DTEND;TZID=Europe/Helsinki:20270629T130000
DTSTAMP:20260424T110901
CREATED:20250114T084850Z
LAST-MODIFIED:20250114T084850Z
UID:10005495-1814263200-1814274000@asb-mb.de
SUMMARY:Betreuungsgruppe Menschen mit Demenz
DESCRIPTION:Mehr Informationen
URL:https://asb-mb.de/single-event/betreuungsgruppe-menschen-mit-demenz-2/2027-06-29/
LOCATION:Bürgertreff Königs Wusterhausen\, Herderstraße 8-9\, Königs Wusterhausen\, 15711
CATEGORIES:Demenz
END:VEVENT
BEGIN:VEVENT
DTSTART;TZID=Europe/Helsinki:20270701T170000
DTEND;TZID=Europe/Helsinki:20270701T190000
DTSTAMP:20260424T110901
CREATED:20250114T084422Z
LAST-MODIFIED:20250114T084422Z
UID:10004817-1814461200-1814468400@asb-mb.de
SUMMARY:Angehörigengruppe Menschen mit Demenz
DESCRIPTION:Mehr Informationen
URL:https://asb-mb.de/single-event/angehoerigengruppe-menschen-mit-demenz-3/2027-07-01/
CATEGORIES:Demenz
END:VEVENT
BEGIN:VEVENT
DTSTART;TZID=Europe/Helsinki:20270702T093000
DTEND;TZID=Europe/Helsinki:20270702T103000
DTSTAMP:20260424T110901
CREATED:20250114T084740Z
LAST-MODIFIED:20250114T084741Z
UID:10004975-1814520600-1814524200@asb-mb.de
SUMMARY:Sportgruppe "Mit Sport dabei"
DESCRIPTION:Mehr Informationen
URL:https://asb-mb.de/single-event/sportgruppe-mit-sport-dabei-2-2/2027-07-02/
LOCATION:Bürgertreff Königs Wusterhausen\, Herderstraße 8-9\, Königs Wusterhausen\, 15711
CATEGORIES:Demenz
END:VEVENT
BEGIN:VEVENT
DTSTART;TZID=Europe/Helsinki:20270702T103000
DTEND;TZID=Europe/Helsinki:20270702T113000
DTSTAMP:20260424T110901
CREATED:20250114T084749Z
LAST-MODIFIED:20250114T084749Z
UID:10005235-1814524200-1814527800@asb-mb.de
SUMMARY:Sportgruppe "Mit Sport dabei"
DESCRIPTION:Mehr Informationen
URL:https://asb-mb.de/single-event/sportgruppe-mit-sport-dabei-3/2027-07-02/
LOCATION:Bürgertreff Königs Wusterhausen\, Herderstraße 8-9\, Königs Wusterhausen\, 15711
CATEGORIES:Demenz
END:VEVENT
BEGIN:VEVENT
DTSTART;TZID=Europe/Helsinki:20270706T100000
DTEND;TZID=Europe/Helsinki:20270706T130000
DTSTAMP:20260424T110901
CREATED:20250114T084850Z
LAST-MODIFIED:20250114T084850Z
UID:10005496-1814868000-1814878800@asb-mb.de
SUMMARY:Betreuungsgruppe Menschen mit Demenz
DESCRIPTION:Mehr Informationen
URL:https://asb-mb.de/single-event/betreuungsgruppe-menschen-mit-demenz-2/2027-07-06/
LOCATION:Bürgertreff Königs Wusterhausen\, Herderstraße 8-9\, Königs Wusterhausen\, 15711
CATEGORIES:Demenz
END:VEVENT
END:VCALENDAR