BEGIN:VCALENDAR
VERSION:2.0
PRODID:-//ASB - ECPv6.15.18//NONSGML v1.0//EN
CALSCALE:GREGORIAN
METHOD:PUBLISH
X-WR-CALNAME:ASB
X-ORIGINAL-URL:https://asb-mb.de
X-WR-CALDESC:Veranstaltungen für ASB
REFRESH-INTERVAL;VALUE=DURATION:PT1H
X-Robots-Tag:noindex
X-PUBLISHED-TTL:PT1H
BEGIN:VTIMEZONE
TZID:Europe/Helsinki
BEGIN:DAYLIGHT
TZOFFSETFROM:+0200
TZOFFSETTO:+0300
TZNAME:EEST
DTSTART:20270328T010000
END:DAYLIGHT
BEGIN:STANDARD
TZOFFSETFROM:+0300
TZOFFSETTO:+0200
TZNAME:EET
DTSTART:20271031T010000
END:STANDARD
BEGIN:DAYLIGHT
TZOFFSETFROM:+0200
TZOFFSETTO:+0300
TZNAME:EEST
DTSTART:20280326T010000
END:DAYLIGHT
BEGIN:STANDARD
TZOFFSETFROM:+0300
TZOFFSETTO:+0200
TZNAME:EET
DTSTART:20281029T010000
END:STANDARD
BEGIN:DAYLIGHT
TZOFFSETFROM:+0200
TZOFFSETTO:+0300
TZNAME:EEST
DTSTART:20290325T010000
END:DAYLIGHT
BEGIN:STANDARD
TZOFFSETFROM:+0300
TZOFFSETTO:+0200
TZNAME:EET
DTSTART:20291028T010000
END:STANDARD
END:VTIMEZONE
BEGIN:VEVENT
DTSTART;TZID=Europe/Helsinki:20280302T170000
DTEND;TZID=Europe/Helsinki:20280302T190000
DTSTAMP:20260425T013148
CREATED:20250114T084422Z
LAST-MODIFIED:20250114T084422Z
UID:10004825-1835629200-1835636400@asb-mb.de
SUMMARY:Angehörigengruppe Menschen mit Demenz
DESCRIPTION:Mehr Informationen
URL:https://asb-mb.de/single-event/angehoerigengruppe-menschen-mit-demenz-3/2028-03-02/
LOCATION:Brandenburg
CATEGORIES:Demenz
END:VEVENT
BEGIN:VEVENT
DTSTART;TZID=Europe/Helsinki:20280303T093000
DTEND;TZID=Europe/Helsinki:20280303T103000
DTSTAMP:20260425T013148
CREATED:20250114T084740Z
LAST-MODIFIED:20250114T084741Z
UID:10005010-1835688600-1835692200@asb-mb.de
SUMMARY:Sportgruppe "Mit Sport dabei"
DESCRIPTION:Mehr Informationen
URL:https://asb-mb.de/single-event/sportgruppe-mit-sport-dabei-2-2/2028-03-03/
LOCATION:Bürgertreff Königs Wusterhausen\, Herderstraße 8-9\, Königs Wusterhausen\, 15711
CATEGORIES:Demenz
END:VEVENT
BEGIN:VEVENT
DTSTART;TZID=Europe/Helsinki:20280303T103000
DTEND;TZID=Europe/Helsinki:20280303T113000
DTSTAMP:20260425T013148
CREATED:20250114T084749Z
LAST-MODIFIED:20250114T084749Z
UID:10005270-1835692200-1835695800@asb-mb.de
SUMMARY:Sportgruppe "Mit Sport dabei"
DESCRIPTION:Mehr Informationen
URL:https://asb-mb.de/single-event/sportgruppe-mit-sport-dabei-3/2028-03-03/
LOCATION:Bürgertreff Königs Wusterhausen\, Herderstraße 8-9\, Königs Wusterhausen\, 15711
CATEGORIES:Demenz
END:VEVENT
BEGIN:VEVENT
DTSTART;TZID=Europe/Helsinki:20280307T100000
DTEND;TZID=Europe/Helsinki:20280307T130000
DTSTAMP:20260425T013148
CREATED:20250114T084850Z
LAST-MODIFIED:20250114T084850Z
UID:10005531-1836036000-1836046800@asb-mb.de
SUMMARY:Betreuungsgruppe Menschen mit Demenz
DESCRIPTION:Mehr Informationen
URL:https://asb-mb.de/single-event/betreuungsgruppe-menschen-mit-demenz-2/2028-03-07/
LOCATION:Bürgertreff Königs Wusterhausen\, Herderstraße 8-9\, Königs Wusterhausen\, 15711
CATEGORIES:Demenz
END:VEVENT
BEGIN:VEVENT
DTSTART;TZID=Europe/Helsinki:20280310T093000
DTEND;TZID=Europe/Helsinki:20280310T103000
DTSTAMP:20260425T013148
CREATED:20250114T084740Z
LAST-MODIFIED:20250114T084741Z
UID:10005011-1836293400-1836297000@asb-mb.de
SUMMARY:Sportgruppe "Mit Sport dabei"
DESCRIPTION:Mehr Informationen
URL:https://asb-mb.de/single-event/sportgruppe-mit-sport-dabei-2-2/2028-03-10/
LOCATION:Bürgertreff Königs Wusterhausen\, Herderstraße 8-9\, Königs Wusterhausen\, 15711
CATEGORIES:Demenz
END:VEVENT
BEGIN:VEVENT
DTSTART;TZID=Europe/Helsinki:20280310T103000
DTEND;TZID=Europe/Helsinki:20280310T113000
DTSTAMP:20260425T013148
CREATED:20250114T084749Z
LAST-MODIFIED:20250114T084749Z
UID:10005271-1836297000-1836300600@asb-mb.de
SUMMARY:Sportgruppe "Mit Sport dabei"
DESCRIPTION:Mehr Informationen
URL:https://asb-mb.de/single-event/sportgruppe-mit-sport-dabei-3/2028-03-10/
LOCATION:Bürgertreff Königs Wusterhausen\, Herderstraße 8-9\, Königs Wusterhausen\, 15711
CATEGORIES:Demenz
END:VEVENT
BEGIN:VEVENT
DTSTART;TZID=Europe/Helsinki:20280314T100000
DTEND;TZID=Europe/Helsinki:20280314T130000
DTSTAMP:20260425T013148
CREATED:20250114T084850Z
LAST-MODIFIED:20250114T084850Z
UID:10005532-1836640800-1836651600@asb-mb.de
SUMMARY:Betreuungsgruppe Menschen mit Demenz
DESCRIPTION:Mehr Informationen
URL:https://asb-mb.de/single-event/betreuungsgruppe-menschen-mit-demenz-2/2028-03-14/
LOCATION:Bürgertreff Königs Wusterhausen\, Herderstraße 8-9\, Königs Wusterhausen\, 15711
CATEGORIES:Demenz
END:VEVENT
BEGIN:VEVENT
DTSTART;TZID=Europe/Helsinki:20280316T120000
DTEND;TZID=Europe/Helsinki:20280316T140000
DTSTAMP:20260425T013148
CREATED:20250114T084142Z
LAST-MODIFIED:20250114T084142Z
UID:10004766-1836820800-1836828000@asb-mb.de
SUMMARY:Angehörigengruppe Menschen mit Demenz
DESCRIPTION:Mehr Informationen
URL:https://asb-mb.de/single-event/angehoerigengruppe-menschen-mit-demenz-2/2028-03-16/
LOCATION:Brandenburg
CATEGORIES:Demenz
END:VEVENT
BEGIN:VEVENT
DTSTART;TZID=Europe/Helsinki:20280317T093000
DTEND;TZID=Europe/Helsinki:20280317T103000
DTSTAMP:20260425T013148
CREATED:20250114T084740Z
LAST-MODIFIED:20250114T084741Z
UID:10005012-1836898200-1836901800@asb-mb.de
SUMMARY:Sportgruppe "Mit Sport dabei"
DESCRIPTION:Mehr Informationen
URL:https://asb-mb.de/single-event/sportgruppe-mit-sport-dabei-2-2/2028-03-17/
LOCATION:Bürgertreff Königs Wusterhausen\, Herderstraße 8-9\, Königs Wusterhausen\, 15711
CATEGORIES:Demenz
END:VEVENT
BEGIN:VEVENT
DTSTART;TZID=Europe/Helsinki:20280317T103000
DTEND;TZID=Europe/Helsinki:20280317T113000
DTSTAMP:20260425T013148
CREATED:20250114T084749Z
LAST-MODIFIED:20250114T084749Z
UID:10005272-1836901800-1836905400@asb-mb.de
SUMMARY:Sportgruppe "Mit Sport dabei"
DESCRIPTION:Mehr Informationen
URL:https://asb-mb.de/single-event/sportgruppe-mit-sport-dabei-3/2028-03-17/
LOCATION:Bürgertreff Königs Wusterhausen\, Herderstraße 8-9\, Königs Wusterhausen\, 15711
CATEGORIES:Demenz
END:VEVENT
BEGIN:VEVENT
DTSTART;TZID=Europe/Helsinki:20280321T100000
DTEND;TZID=Europe/Helsinki:20280321T130000
DTSTAMP:20260425T013148
CREATED:20250114T084850Z
LAST-MODIFIED:20250114T084850Z
UID:10005533-1837245600-1837256400@asb-mb.de
SUMMARY:Betreuungsgruppe Menschen mit Demenz
DESCRIPTION:Mehr Informationen
URL:https://asb-mb.de/single-event/betreuungsgruppe-menschen-mit-demenz-2/2028-03-21/
LOCATION:Bürgertreff Königs Wusterhausen\, Herderstraße 8-9\, Königs Wusterhausen\, 15711
CATEGORIES:Demenz
END:VEVENT
BEGIN:VEVENT
DTSTART;TZID=Europe/Helsinki:20280324T093000
DTEND;TZID=Europe/Helsinki:20280324T103000
DTSTAMP:20260425T013148
CREATED:20250114T084740Z
LAST-MODIFIED:20250114T084741Z
UID:10005013-1837503000-1837506600@asb-mb.de
SUMMARY:Sportgruppe "Mit Sport dabei"
DESCRIPTION:Mehr Informationen
URL:https://asb-mb.de/single-event/sportgruppe-mit-sport-dabei-2-2/2028-03-24/
LOCATION:Bürgertreff Königs Wusterhausen\, Herderstraße 8-9\, Königs Wusterhausen\, 15711
CATEGORIES:Demenz
END:VEVENT
BEGIN:VEVENT
DTSTART;TZID=Europe/Helsinki:20280324T103000
DTEND;TZID=Europe/Helsinki:20280324T113000
DTSTAMP:20260425T013148
CREATED:20250114T084749Z
LAST-MODIFIED:20250114T084749Z
UID:10005273-1837506600-1837510200@asb-mb.de
SUMMARY:Sportgruppe "Mit Sport dabei"
DESCRIPTION:Mehr Informationen
URL:https://asb-mb.de/single-event/sportgruppe-mit-sport-dabei-3/2028-03-24/
LOCATION:Bürgertreff Königs Wusterhausen\, Herderstraße 8-9\, Königs Wusterhausen\, 15711
CATEGORIES:Demenz
END:VEVENT
BEGIN:VEVENT
DTSTART;TZID=Europe/Helsinki:20280328T100000
DTEND;TZID=Europe/Helsinki:20280328T130000
DTSTAMP:20260425T013148
CREATED:20250114T084850Z
LAST-MODIFIED:20250114T084850Z
UID:10005534-1837850400-1837861200@asb-mb.de
SUMMARY:Betreuungsgruppe Menschen mit Demenz
DESCRIPTION:Mehr Informationen
URL:https://asb-mb.de/single-event/betreuungsgruppe-menschen-mit-demenz-2/2028-03-28/
LOCATION:Bürgertreff Königs Wusterhausen\, Herderstraße 8-9\, Königs Wusterhausen\, 15711
CATEGORIES:Demenz
END:VEVENT
BEGIN:VEVENT
DTSTART;TZID=Europe/Helsinki:20280331T093000
DTEND;TZID=Europe/Helsinki:20280331T103000
DTSTAMP:20260425T013148
CREATED:20250114T084740Z
LAST-MODIFIED:20250114T084741Z
UID:10005014-1838107800-1838111400@asb-mb.de
SUMMARY:Sportgruppe "Mit Sport dabei"
DESCRIPTION:Mehr Informationen
URL:https://asb-mb.de/single-event/sportgruppe-mit-sport-dabei-2-2/2028-03-31/
LOCATION:Bürgertreff Königs Wusterhausen\, Herderstraße 8-9\, Königs Wusterhausen\, 15711
CATEGORIES:Demenz
END:VEVENT
BEGIN:VEVENT
DTSTART;TZID=Europe/Helsinki:20280331T103000
DTEND;TZID=Europe/Helsinki:20280331T113000
DTSTAMP:20260425T013148
CREATED:20250114T084749Z
LAST-MODIFIED:20250114T084749Z
UID:10005274-1838111400-1838115000@asb-mb.de
SUMMARY:Sportgruppe "Mit Sport dabei"
DESCRIPTION:Mehr Informationen
URL:https://asb-mb.de/single-event/sportgruppe-mit-sport-dabei-3/2028-03-31/
LOCATION:Bürgertreff Königs Wusterhausen\, Herderstraße 8-9\, Königs Wusterhausen\, 15711
CATEGORIES:Demenz
END:VEVENT
END:VCALENDAR