BEGIN:VCALENDAR
VERSION:2.0
PRODID:-//ASB - ECPv6.15.18//NONSGML v1.0//EN
CALSCALE:GREGORIAN
METHOD:PUBLISH
X-WR-CALNAME:ASB
X-ORIGINAL-URL:https://asb-mb.de
X-WR-CALDESC:Veranstaltungen für ASB
REFRESH-INTERVAL;VALUE=DURATION:PT1H
X-Robots-Tag:noindex
X-PUBLISHED-TTL:PT1H
BEGIN:VTIMEZONE
TZID:Europe/Helsinki
BEGIN:DAYLIGHT
TZOFFSETFROM:+0200
TZOFFSETTO:+0300
TZNAME:EEST
DTSTART:20270328T010000
END:DAYLIGHT
BEGIN:STANDARD
TZOFFSETFROM:+0300
TZOFFSETTO:+0200
TZNAME:EET
DTSTART:20271031T010000
END:STANDARD
BEGIN:DAYLIGHT
TZOFFSETFROM:+0200
TZOFFSETTO:+0300
TZNAME:EEST
DTSTART:20280326T010000
END:DAYLIGHT
BEGIN:STANDARD
TZOFFSETFROM:+0300
TZOFFSETTO:+0200
TZNAME:EET
DTSTART:20281029T010000
END:STANDARD
BEGIN:DAYLIGHT
TZOFFSETFROM:+0200
TZOFFSETTO:+0300
TZNAME:EEST
DTSTART:20290325T010000
END:DAYLIGHT
BEGIN:STANDARD
TZOFFSETFROM:+0300
TZOFFSETTO:+0200
TZNAME:EET
DTSTART:20291028T010000
END:STANDARD
END:VTIMEZONE
BEGIN:VEVENT
DTSTART;TZID=Europe/Helsinki:20280104T100000
DTEND;TZID=Europe/Helsinki:20280104T130000
DTSTAMP:20260424T221730
CREATED:20250114T084850Z
LAST-MODIFIED:20250114T084850Z
UID:10005522-1830592800-1830603600@asb-mb.de
SUMMARY:Betreuungsgruppe Menschen mit Demenz
DESCRIPTION:Mehr Informationen
URL:https://asb-mb.de/single-event/betreuungsgruppe-menschen-mit-demenz-2/2028-01-04/
LOCATION:Bürgertreff Königs Wusterhausen\, Herderstraße 8-9\, Königs Wusterhausen\, 15711
CATEGORIES:Demenz
END:VEVENT
BEGIN:VEVENT
DTSTART;TZID=Europe/Helsinki:20280106T170000
DTEND;TZID=Europe/Helsinki:20280106T190000
DTSTAMP:20260424T221730
CREATED:20250114T084422Z
LAST-MODIFIED:20250114T084422Z
UID:10004823-1830790800-1830798000@asb-mb.de
SUMMARY:Angehörigengruppe Menschen mit Demenz
DESCRIPTION:Mehr Informationen
URL:https://asb-mb.de/single-event/angehoerigengruppe-menschen-mit-demenz-3/2028-01-06/
LOCATION:Brandenburg
CATEGORIES:Demenz
END:VEVENT
BEGIN:VEVENT
DTSTART;TZID=Europe/Helsinki:20280107T093000
DTEND;TZID=Europe/Helsinki:20280107T103000
DTSTAMP:20260424T221730
CREATED:20250114T084740Z
LAST-MODIFIED:20250114T084741Z
UID:10005002-1830850200-1830853800@asb-mb.de
SUMMARY:Sportgruppe "Mit Sport dabei"
DESCRIPTION:Mehr Informationen
URL:https://asb-mb.de/single-event/sportgruppe-mit-sport-dabei-2-2/2028-01-07/
LOCATION:Bürgertreff Königs Wusterhausen\, Herderstraße 8-9\, Königs Wusterhausen\, 15711
CATEGORIES:Demenz
END:VEVENT
BEGIN:VEVENT
DTSTART;TZID=Europe/Helsinki:20280107T103000
DTEND;TZID=Europe/Helsinki:20280107T113000
DTSTAMP:20260424T221730
CREATED:20250114T084749Z
LAST-MODIFIED:20250114T084749Z
UID:10005262-1830853800-1830857400@asb-mb.de
SUMMARY:Sportgruppe "Mit Sport dabei"
DESCRIPTION:Mehr Informationen
URL:https://asb-mb.de/single-event/sportgruppe-mit-sport-dabei-3/2028-01-07/
LOCATION:Bürgertreff Königs Wusterhausen\, Herderstraße 8-9\, Königs Wusterhausen\, 15711
CATEGORIES:Demenz
END:VEVENT
BEGIN:VEVENT
DTSTART;TZID=Europe/Helsinki:20280111T100000
DTEND;TZID=Europe/Helsinki:20280111T130000
DTSTAMP:20260424T221730
CREATED:20250114T084850Z
LAST-MODIFIED:20250114T084850Z
UID:10005523-1831197600-1831208400@asb-mb.de
SUMMARY:Betreuungsgruppe Menschen mit Demenz
DESCRIPTION:Mehr Informationen
URL:https://asb-mb.de/single-event/betreuungsgruppe-menschen-mit-demenz-2/2028-01-11/
LOCATION:Bürgertreff Königs Wusterhausen\, Herderstraße 8-9\, Königs Wusterhausen\, 15711
CATEGORIES:Demenz
END:VEVENT
BEGIN:VEVENT
DTSTART;TZID=Europe/Helsinki:20280114T093000
DTEND;TZID=Europe/Helsinki:20280114T103000
DTSTAMP:20260424T221730
CREATED:20250114T084740Z
LAST-MODIFIED:20250114T084741Z
UID:10005003-1831455000-1831458600@asb-mb.de
SUMMARY:Sportgruppe "Mit Sport dabei"
DESCRIPTION:Mehr Informationen
URL:https://asb-mb.de/single-event/sportgruppe-mit-sport-dabei-2-2/2028-01-14/
LOCATION:Bürgertreff Königs Wusterhausen\, Herderstraße 8-9\, Königs Wusterhausen\, 15711
CATEGORIES:Demenz
END:VEVENT
BEGIN:VEVENT
DTSTART;TZID=Europe/Helsinki:20280114T103000
DTEND;TZID=Europe/Helsinki:20280114T113000
DTSTAMP:20260424T221730
CREATED:20250114T084749Z
LAST-MODIFIED:20250114T084749Z
UID:10005263-1831458600-1831462200@asb-mb.de
SUMMARY:Sportgruppe "Mit Sport dabei"
DESCRIPTION:Mehr Informationen
URL:https://asb-mb.de/single-event/sportgruppe-mit-sport-dabei-3/2028-01-14/
LOCATION:Bürgertreff Königs Wusterhausen\, Herderstraße 8-9\, Königs Wusterhausen\, 15711
CATEGORIES:Demenz
END:VEVENT
BEGIN:VEVENT
DTSTART;TZID=Europe/Helsinki:20280118T100000
DTEND;TZID=Europe/Helsinki:20280118T130000
DTSTAMP:20260424T221730
CREATED:20250114T084850Z
LAST-MODIFIED:20250114T084850Z
UID:10005524-1831802400-1831813200@asb-mb.de
SUMMARY:Betreuungsgruppe Menschen mit Demenz
DESCRIPTION:Mehr Informationen
URL:https://asb-mb.de/single-event/betreuungsgruppe-menschen-mit-demenz-2/2028-01-18/
LOCATION:Bürgertreff Königs Wusterhausen\, Herderstraße 8-9\, Königs Wusterhausen\, 15711
CATEGORIES:Demenz
END:VEVENT
BEGIN:VEVENT
DTSTART;TZID=Europe/Helsinki:20280120T120000
DTEND;TZID=Europe/Helsinki:20280120T140000
DTSTAMP:20260424T221730
CREATED:20250114T084142Z
LAST-MODIFIED:20250114T084142Z
UID:10004764-1831982400-1831989600@asb-mb.de
SUMMARY:Angehörigengruppe Menschen mit Demenz
DESCRIPTION:Mehr Informationen
URL:https://asb-mb.de/single-event/angehoerigengruppe-menschen-mit-demenz-2/2028-01-20/
LOCATION:Brandenburg
CATEGORIES:Demenz
END:VEVENT
BEGIN:VEVENT
DTSTART;TZID=Europe/Helsinki:20280121T093000
DTEND;TZID=Europe/Helsinki:20280121T103000
DTSTAMP:20260424T221730
CREATED:20250114T084740Z
LAST-MODIFIED:20250114T084741Z
UID:10005004-1832059800-1832063400@asb-mb.de
SUMMARY:Sportgruppe "Mit Sport dabei"
DESCRIPTION:Mehr Informationen
URL:https://asb-mb.de/single-event/sportgruppe-mit-sport-dabei-2-2/2028-01-21/
LOCATION:Bürgertreff Königs Wusterhausen\, Herderstraße 8-9\, Königs Wusterhausen\, 15711
CATEGORIES:Demenz
END:VEVENT
BEGIN:VEVENT
DTSTART;TZID=Europe/Helsinki:20280121T103000
DTEND;TZID=Europe/Helsinki:20280121T113000
DTSTAMP:20260424T221730
CREATED:20250114T084749Z
LAST-MODIFIED:20250114T084749Z
UID:10005264-1832063400-1832067000@asb-mb.de
SUMMARY:Sportgruppe "Mit Sport dabei"
DESCRIPTION:Mehr Informationen
URL:https://asb-mb.de/single-event/sportgruppe-mit-sport-dabei-3/2028-01-21/
LOCATION:Bürgertreff Königs Wusterhausen\, Herderstraße 8-9\, Königs Wusterhausen\, 15711
CATEGORIES:Demenz
END:VEVENT
BEGIN:VEVENT
DTSTART;TZID=Europe/Helsinki:20280125T100000
DTEND;TZID=Europe/Helsinki:20280125T130000
DTSTAMP:20260424T221730
CREATED:20250114T084850Z
LAST-MODIFIED:20250114T084850Z
UID:10005525-1832407200-1832418000@asb-mb.de
SUMMARY:Betreuungsgruppe Menschen mit Demenz
DESCRIPTION:Mehr Informationen
URL:https://asb-mb.de/single-event/betreuungsgruppe-menschen-mit-demenz-2/2028-01-25/
LOCATION:Bürgertreff Königs Wusterhausen\, Herderstraße 8-9\, Königs Wusterhausen\, 15711
CATEGORIES:Demenz
END:VEVENT
BEGIN:VEVENT
DTSTART;TZID=Europe/Helsinki:20280128T093000
DTEND;TZID=Europe/Helsinki:20280128T103000
DTSTAMP:20260424T221730
CREATED:20250114T084740Z
LAST-MODIFIED:20250114T084741Z
UID:10005005-1832664600-1832668200@asb-mb.de
SUMMARY:Sportgruppe "Mit Sport dabei"
DESCRIPTION:Mehr Informationen
URL:https://asb-mb.de/single-event/sportgruppe-mit-sport-dabei-2-2/2028-01-28/
LOCATION:Bürgertreff Königs Wusterhausen\, Herderstraße 8-9\, Königs Wusterhausen\, 15711
CATEGORIES:Demenz
END:VEVENT
BEGIN:VEVENT
DTSTART;TZID=Europe/Helsinki:20280128T103000
DTEND;TZID=Europe/Helsinki:20280128T113000
DTSTAMP:20260424T221730
CREATED:20250114T084749Z
LAST-MODIFIED:20250114T084749Z
UID:10005265-1832668200-1832671800@asb-mb.de
SUMMARY:Sportgruppe "Mit Sport dabei"
DESCRIPTION:Mehr Informationen
URL:https://asb-mb.de/single-event/sportgruppe-mit-sport-dabei-3/2028-01-28/
LOCATION:Bürgertreff Königs Wusterhausen\, Herderstraße 8-9\, Königs Wusterhausen\, 15711
CATEGORIES:Demenz
END:VEVENT
END:VCALENDAR