BEGIN:VCALENDAR
VERSION:2.0
PRODID:-//ASB - ECPv6.15.18//NONSGML v1.0//EN
CALSCALE:GREGORIAN
METHOD:PUBLISH
X-ORIGINAL-URL:https://asb-mb.de
X-WR-CALDESC:Veranstaltungen für ASB
REFRESH-INTERVAL;VALUE=DURATION:PT1H
X-Robots-Tag:noindex
X-PUBLISHED-TTL:PT1H
BEGIN:VTIMEZONE
TZID:Europe/Helsinki
BEGIN:DAYLIGHT
TZOFFSETFROM:+0200
TZOFFSETTO:+0300
TZNAME:EEST
DTSTART:20260329T010000
END:DAYLIGHT
BEGIN:STANDARD
TZOFFSETFROM:+0300
TZOFFSETTO:+0200
TZNAME:EET
DTSTART:20261025T010000
END:STANDARD
BEGIN:DAYLIGHT
TZOFFSETFROM:+0200
TZOFFSETTO:+0300
TZNAME:EEST
DTSTART:20270328T010000
END:DAYLIGHT
BEGIN:STANDARD
TZOFFSETFROM:+0300
TZOFFSETTO:+0200
TZNAME:EET
DTSTART:20271031T010000
END:STANDARD
BEGIN:DAYLIGHT
TZOFFSETFROM:+0200
TZOFFSETTO:+0300
TZNAME:EEST
DTSTART:20280326T010000
END:DAYLIGHT
BEGIN:STANDARD
TZOFFSETFROM:+0300
TZOFFSETTO:+0200
TZNAME:EET
DTSTART:20281029T010000
END:STANDARD
END:VTIMEZONE
BEGIN:VEVENT
DTSTART;TZID=Europe/Helsinki:20271202T170000
DTEND;TZID=Europe/Helsinki:20271202T190000
DTSTAMP:20260424T204513
CREATED:20250114T084422Z
LAST-MODIFIED:20250114T084422Z
UID:10004822-1827766800-1827774000@asb-mb.de
SUMMARY:Angehörigengruppe Menschen mit Demenz
DESCRIPTION:Mehr Informationen
URL:https://asb-mb.de/single-event/angehoerigengruppe-menschen-mit-demenz-3/2027-12-02/
LOCATION:Brandenburg
CATEGORIES:Demenz
END:VEVENT
BEGIN:VEVENT
DTSTART;TZID=Europe/Helsinki:20271203T093000
DTEND;TZID=Europe/Helsinki:20271203T103000
DTSTAMP:20260424T204513
CREATED:20250114T084740Z
LAST-MODIFIED:20250114T084741Z
UID:10004997-1827826200-1827829800@asb-mb.de
SUMMARY:Sportgruppe "Mit Sport dabei"
DESCRIPTION:Mehr Informationen
URL:https://asb-mb.de/single-event/sportgruppe-mit-sport-dabei-2-2/2027-12-03/
LOCATION:Bürgertreff Königs Wusterhausen\, Herderstraße 8-9\, Königs Wusterhausen\, 15711
CATEGORIES:Demenz
END:VEVENT
BEGIN:VEVENT
DTSTART;TZID=Europe/Helsinki:20271203T103000
DTEND;TZID=Europe/Helsinki:20271203T113000
DTSTAMP:20260424T204513
CREATED:20250114T084749Z
LAST-MODIFIED:20250114T084749Z
UID:10005257-1827829800-1827833400@asb-mb.de
SUMMARY:Sportgruppe "Mit Sport dabei"
DESCRIPTION:Mehr Informationen
URL:https://asb-mb.de/single-event/sportgruppe-mit-sport-dabei-3/2027-12-03/
LOCATION:Bürgertreff Königs Wusterhausen\, Herderstraße 8-9\, Königs Wusterhausen\, 15711
CATEGORIES:Demenz
END:VEVENT
BEGIN:VEVENT
DTSTART;TZID=Europe/Helsinki:20271207T100000
DTEND;TZID=Europe/Helsinki:20271207T130000
DTSTAMP:20260424T204513
CREATED:20250114T084850Z
LAST-MODIFIED:20250114T084850Z
UID:10005518-1828173600-1828184400@asb-mb.de
SUMMARY:Betreuungsgruppe Menschen mit Demenz
DESCRIPTION:Mehr Informationen
URL:https://asb-mb.de/single-event/betreuungsgruppe-menschen-mit-demenz-2/2027-12-07/
LOCATION:Bürgertreff Königs Wusterhausen\, Herderstraße 8-9\, Königs Wusterhausen\, 15711
CATEGORIES:Demenz
END:VEVENT
BEGIN:VEVENT
DTSTART;TZID=Europe/Helsinki:20271210T093000
DTEND;TZID=Europe/Helsinki:20271210T103000
DTSTAMP:20260424T204513
CREATED:20250114T084740Z
LAST-MODIFIED:20250114T084741Z
UID:10004998-1828431000-1828434600@asb-mb.de
SUMMARY:Sportgruppe "Mit Sport dabei"
DESCRIPTION:Mehr Informationen
URL:https://asb-mb.de/single-event/sportgruppe-mit-sport-dabei-2-2/2027-12-10/
LOCATION:Bürgertreff Königs Wusterhausen\, Herderstraße 8-9\, Königs Wusterhausen\, 15711
CATEGORIES:Demenz
END:VEVENT
BEGIN:VEVENT
DTSTART;TZID=Europe/Helsinki:20271210T103000
DTEND;TZID=Europe/Helsinki:20271210T113000
DTSTAMP:20260424T204513
CREATED:20250114T084749Z
LAST-MODIFIED:20250114T084749Z
UID:10005258-1828434600-1828438200@asb-mb.de
SUMMARY:Sportgruppe "Mit Sport dabei"
DESCRIPTION:Mehr Informationen
URL:https://asb-mb.de/single-event/sportgruppe-mit-sport-dabei-3/2027-12-10/
LOCATION:Bürgertreff Königs Wusterhausen\, Herderstraße 8-9\, Königs Wusterhausen\, 15711
CATEGORIES:Demenz
END:VEVENT
BEGIN:VEVENT
DTSTART;TZID=Europe/Helsinki:20271214T100000
DTEND;TZID=Europe/Helsinki:20271214T130000
DTSTAMP:20260424T204513
CREATED:20250114T084850Z
LAST-MODIFIED:20250114T084850Z
UID:10005519-1828778400-1828789200@asb-mb.de
SUMMARY:Betreuungsgruppe Menschen mit Demenz
DESCRIPTION:Mehr Informationen
URL:https://asb-mb.de/single-event/betreuungsgruppe-menschen-mit-demenz-2/2027-12-14/
LOCATION:Bürgertreff Königs Wusterhausen\, Herderstraße 8-9\, Königs Wusterhausen\, 15711
CATEGORIES:Demenz
END:VEVENT
BEGIN:VEVENT
DTSTART;TZID=Europe/Helsinki:20271216T120000
DTEND;TZID=Europe/Helsinki:20271216T140000
DTSTAMP:20260424T204513
CREATED:20250114T084142Z
LAST-MODIFIED:20250114T084142Z
UID:10004763-1828958400-1828965600@asb-mb.de
SUMMARY:Angehörigengruppe Menschen mit Demenz
DESCRIPTION:Mehr Informationen
URL:https://asb-mb.de/single-event/angehoerigengruppe-menschen-mit-demenz-2/2027-12-16/
LOCATION:Brandenburg
CATEGORIES:Demenz
END:VEVENT
BEGIN:VEVENT
DTSTART;TZID=Europe/Helsinki:20271217T093000
DTEND;TZID=Europe/Helsinki:20271217T103000
DTSTAMP:20260424T204513
CREATED:20250114T084740Z
LAST-MODIFIED:20250114T084741Z
UID:10004999-1829035800-1829039400@asb-mb.de
SUMMARY:Sportgruppe "Mit Sport dabei"
DESCRIPTION:Mehr Informationen
URL:https://asb-mb.de/single-event/sportgruppe-mit-sport-dabei-2-2/2027-12-17/
LOCATION:Bürgertreff Königs Wusterhausen\, Herderstraße 8-9\, Königs Wusterhausen\, 15711
CATEGORIES:Demenz
END:VEVENT
BEGIN:VEVENT
DTSTART;TZID=Europe/Helsinki:20271217T103000
DTEND;TZID=Europe/Helsinki:20271217T113000
DTSTAMP:20260424T204513
CREATED:20250114T084749Z
LAST-MODIFIED:20250114T084749Z
UID:10005259-1829039400-1829043000@asb-mb.de
SUMMARY:Sportgruppe "Mit Sport dabei"
DESCRIPTION:Mehr Informationen
URL:https://asb-mb.de/single-event/sportgruppe-mit-sport-dabei-3/2027-12-17/
LOCATION:Bürgertreff Königs Wusterhausen\, Herderstraße 8-9\, Königs Wusterhausen\, 15711
CATEGORIES:Demenz
END:VEVENT
BEGIN:VEVENT
DTSTART;TZID=Europe/Helsinki:20271221T100000
DTEND;TZID=Europe/Helsinki:20271221T130000
DTSTAMP:20260424T204513
CREATED:20250114T084850Z
LAST-MODIFIED:20250114T084850Z
UID:10005520-1829383200-1829394000@asb-mb.de
SUMMARY:Betreuungsgruppe Menschen mit Demenz
DESCRIPTION:Mehr Informationen
URL:https://asb-mb.de/single-event/betreuungsgruppe-menschen-mit-demenz-2/2027-12-21/
LOCATION:Bürgertreff Königs Wusterhausen\, Herderstraße 8-9\, Königs Wusterhausen\, 15711
CATEGORIES:Demenz
END:VEVENT
BEGIN:VEVENT
DTSTART;TZID=Europe/Helsinki:20271224T093000
DTEND;TZID=Europe/Helsinki:20271224T103000
DTSTAMP:20260424T204513
CREATED:20250114T084740Z
LAST-MODIFIED:20250114T084741Z
UID:10005000-1829640600-1829644200@asb-mb.de
SUMMARY:Sportgruppe "Mit Sport dabei"
DESCRIPTION:Mehr Informationen
URL:https://asb-mb.de/single-event/sportgruppe-mit-sport-dabei-2-2/2027-12-24/
LOCATION:Bürgertreff Königs Wusterhausen\, Herderstraße 8-9\, Königs Wusterhausen\, 15711
CATEGORIES:Demenz
END:VEVENT
BEGIN:VEVENT
DTSTART;TZID=Europe/Helsinki:20271224T103000
DTEND;TZID=Europe/Helsinki:20271224T113000
DTSTAMP:20260424T204513
CREATED:20250114T084749Z
LAST-MODIFIED:20250114T084749Z
UID:10005260-1829644200-1829647800@asb-mb.de
SUMMARY:Sportgruppe "Mit Sport dabei"
DESCRIPTION:Mehr Informationen
URL:https://asb-mb.de/single-event/sportgruppe-mit-sport-dabei-3/2027-12-24/
LOCATION:Bürgertreff Königs Wusterhausen\, Herderstraße 8-9\, Königs Wusterhausen\, 15711
CATEGORIES:Demenz
END:VEVENT
BEGIN:VEVENT
DTSTART;TZID=Europe/Helsinki:20271228T100000
DTEND;TZID=Europe/Helsinki:20271228T130000
DTSTAMP:20260424T204513
CREATED:20250114T084850Z
LAST-MODIFIED:20250114T084850Z
UID:10005521-1829988000-1829998800@asb-mb.de
SUMMARY:Betreuungsgruppe Menschen mit Demenz
DESCRIPTION:Mehr Informationen
URL:https://asb-mb.de/single-event/betreuungsgruppe-menschen-mit-demenz-2/2027-12-28/
LOCATION:Bürgertreff Königs Wusterhausen\, Herderstraße 8-9\, Königs Wusterhausen\, 15711
CATEGORIES:Demenz
END:VEVENT
BEGIN:VEVENT
DTSTART;TZID=Europe/Helsinki:20271231T093000
DTEND;TZID=Europe/Helsinki:20271231T103000
DTSTAMP:20260424T204513
CREATED:20250114T084740Z
LAST-MODIFIED:20250114T084741Z
UID:10005001-1830245400-1830249000@asb-mb.de
SUMMARY:Sportgruppe "Mit Sport dabei"
DESCRIPTION:Mehr Informationen
URL:https://asb-mb.de/single-event/sportgruppe-mit-sport-dabei-2-2/2027-12-31/
LOCATION:Bürgertreff Königs Wusterhausen\, Herderstraße 8-9\, Königs Wusterhausen\, 15711
CATEGORIES:Demenz
END:VEVENT
BEGIN:VEVENT
DTSTART;TZID=Europe/Helsinki:20271231T103000
DTEND;TZID=Europe/Helsinki:20271231T113000
DTSTAMP:20260424T204513
CREATED:20250114T084749Z
LAST-MODIFIED:20250114T084749Z
UID:10005261-1830249000-1830252600@asb-mb.de
SUMMARY:Sportgruppe "Mit Sport dabei"
DESCRIPTION:Mehr Informationen
URL:https://asb-mb.de/single-event/sportgruppe-mit-sport-dabei-3/2027-12-31/
LOCATION:Bürgertreff Königs Wusterhausen\, Herderstraße 8-9\, Königs Wusterhausen\, 15711
CATEGORIES:Demenz
END:VEVENT
END:VCALENDAR