BEGIN:VCALENDAR
VERSION:2.0
PRODID:-//ASB - ECPv6.15.18//NONSGML v1.0//EN
CALSCALE:GREGORIAN
METHOD:PUBLISH
X-WR-CALNAME:ASB
X-ORIGINAL-URL:https://asb-mb.de
X-WR-CALDESC:Veranstaltungen für ASB
REFRESH-INTERVAL;VALUE=DURATION:PT1H
X-Robots-Tag:noindex
X-PUBLISHED-TTL:PT1H
BEGIN:VTIMEZONE
TZID:Europe/Helsinki
BEGIN:DAYLIGHT
TZOFFSETFROM:+0200
TZOFFSETTO:+0300
TZNAME:EEST
DTSTART:20260329T010000
END:DAYLIGHT
BEGIN:STANDARD
TZOFFSETFROM:+0300
TZOFFSETTO:+0200
TZNAME:EET
DTSTART:20261025T010000
END:STANDARD
BEGIN:DAYLIGHT
TZOFFSETFROM:+0200
TZOFFSETTO:+0300
TZNAME:EEST
DTSTART:20270328T010000
END:DAYLIGHT
BEGIN:STANDARD
TZOFFSETFROM:+0300
TZOFFSETTO:+0200
TZNAME:EET
DTSTART:20271031T010000
END:STANDARD
BEGIN:DAYLIGHT
TZOFFSETFROM:+0200
TZOFFSETTO:+0300
TZNAME:EEST
DTSTART:20280326T010000
END:DAYLIGHT
BEGIN:STANDARD
TZOFFSETFROM:+0300
TZOFFSETTO:+0200
TZNAME:EET
DTSTART:20281029T010000
END:STANDARD
END:VTIMEZONE
BEGIN:VEVENT
DTSTART;TZID=Europe/Helsinki:20271102T100000
DTEND;TZID=Europe/Helsinki:20271102T130000
DTSTAMP:20260424T185502
CREATED:20250114T084850Z
LAST-MODIFIED:20250114T084850Z
UID:10005513-1825149600-1825160400@asb-mb.de
SUMMARY:Betreuungsgruppe Menschen mit Demenz
DESCRIPTION:Mehr Informationen
URL:https://asb-mb.de/single-event/betreuungsgruppe-menschen-mit-demenz-2/2027-11-02/
LOCATION:Bürgertreff Königs Wusterhausen\, Herderstraße 8-9\, Königs Wusterhausen\, 15711
CATEGORIES:Demenz
END:VEVENT
BEGIN:VEVENT
DTSTART;TZID=Europe/Helsinki:20271104T170000
DTEND;TZID=Europe/Helsinki:20271104T190000
DTSTAMP:20260424T185502
CREATED:20250114T084422Z
LAST-MODIFIED:20250114T084422Z
UID:10004821-1825347600-1825354800@asb-mb.de
SUMMARY:Angehörigengruppe Menschen mit Demenz
DESCRIPTION:Mehr Informationen
URL:https://asb-mb.de/single-event/angehoerigengruppe-menschen-mit-demenz-3/2027-11-04/
LOCATION:Brandenburg
CATEGORIES:Demenz
END:VEVENT
BEGIN:VEVENT
DTSTART;TZID=Europe/Helsinki:20271105T093000
DTEND;TZID=Europe/Helsinki:20271105T103000
DTSTAMP:20260424T185502
CREATED:20250114T084740Z
LAST-MODIFIED:20250114T084741Z
UID:10004993-1825407000-1825410600@asb-mb.de
SUMMARY:Sportgruppe "Mit Sport dabei"
DESCRIPTION:Mehr Informationen
URL:https://asb-mb.de/single-event/sportgruppe-mit-sport-dabei-2-2/2027-11-05/
LOCATION:Bürgertreff Königs Wusterhausen\, Herderstraße 8-9\, Königs Wusterhausen\, 15711
CATEGORIES:Demenz
END:VEVENT
BEGIN:VEVENT
DTSTART;TZID=Europe/Helsinki:20271105T103000
DTEND;TZID=Europe/Helsinki:20271105T113000
DTSTAMP:20260424T185502
CREATED:20250114T084749Z
LAST-MODIFIED:20250114T084749Z
UID:10005253-1825410600-1825414200@asb-mb.de
SUMMARY:Sportgruppe "Mit Sport dabei"
DESCRIPTION:Mehr Informationen
URL:https://asb-mb.de/single-event/sportgruppe-mit-sport-dabei-3/2027-11-05/
LOCATION:Bürgertreff Königs Wusterhausen\, Herderstraße 8-9\, Königs Wusterhausen\, 15711
CATEGORIES:Demenz
END:VEVENT
BEGIN:VEVENT
DTSTART;TZID=Europe/Helsinki:20271109T100000
DTEND;TZID=Europe/Helsinki:20271109T130000
DTSTAMP:20260424T185502
CREATED:20250114T084850Z
LAST-MODIFIED:20250114T084850Z
UID:10005514-1825754400-1825765200@asb-mb.de
SUMMARY:Betreuungsgruppe Menschen mit Demenz
DESCRIPTION:Mehr Informationen
URL:https://asb-mb.de/single-event/betreuungsgruppe-menschen-mit-demenz-2/2027-11-09/
LOCATION:Bürgertreff Königs Wusterhausen\, Herderstraße 8-9\, Königs Wusterhausen\, 15711
CATEGORIES:Demenz
END:VEVENT
BEGIN:VEVENT
DTSTART;TZID=Europe/Helsinki:20271112T093000
DTEND;TZID=Europe/Helsinki:20271112T103000
DTSTAMP:20260424T185502
CREATED:20250114T084740Z
LAST-MODIFIED:20250114T084741Z
UID:10004994-1826011800-1826015400@asb-mb.de
SUMMARY:Sportgruppe "Mit Sport dabei"
DESCRIPTION:Mehr Informationen
URL:https://asb-mb.de/single-event/sportgruppe-mit-sport-dabei-2-2/2027-11-12/
LOCATION:Bürgertreff Königs Wusterhausen\, Herderstraße 8-9\, Königs Wusterhausen\, 15711
CATEGORIES:Demenz
END:VEVENT
BEGIN:VEVENT
DTSTART;TZID=Europe/Helsinki:20271112T103000
DTEND;TZID=Europe/Helsinki:20271112T113000
DTSTAMP:20260424T185502
CREATED:20250114T084749Z
LAST-MODIFIED:20250114T084749Z
UID:10005254-1826015400-1826019000@asb-mb.de
SUMMARY:Sportgruppe "Mit Sport dabei"
DESCRIPTION:Mehr Informationen
URL:https://asb-mb.de/single-event/sportgruppe-mit-sport-dabei-3/2027-11-12/
LOCATION:Bürgertreff Königs Wusterhausen\, Herderstraße 8-9\, Königs Wusterhausen\, 15711
CATEGORIES:Demenz
END:VEVENT
BEGIN:VEVENT
DTSTART;TZID=Europe/Helsinki:20271116T100000
DTEND;TZID=Europe/Helsinki:20271116T130000
DTSTAMP:20260424T185502
CREATED:20250114T084850Z
LAST-MODIFIED:20250114T084850Z
UID:10005515-1826359200-1826370000@asb-mb.de
SUMMARY:Betreuungsgruppe Menschen mit Demenz
DESCRIPTION:Mehr Informationen
URL:https://asb-mb.de/single-event/betreuungsgruppe-menschen-mit-demenz-2/2027-11-16/
LOCATION:Bürgertreff Königs Wusterhausen\, Herderstraße 8-9\, Königs Wusterhausen\, 15711
CATEGORIES:Demenz
END:VEVENT
BEGIN:VEVENT
DTSTART;TZID=Europe/Helsinki:20271118T120000
DTEND;TZID=Europe/Helsinki:20271118T140000
DTSTAMP:20260424T185502
CREATED:20250114T084142Z
LAST-MODIFIED:20250114T084142Z
UID:10004762-1826539200-1826546400@asb-mb.de
SUMMARY:Angehörigengruppe Menschen mit Demenz
DESCRIPTION:Mehr Informationen
URL:https://asb-mb.de/single-event/angehoerigengruppe-menschen-mit-demenz-2/2027-11-18/
LOCATION:Brandenburg
CATEGORIES:Demenz
END:VEVENT
BEGIN:VEVENT
DTSTART;TZID=Europe/Helsinki:20271119T093000
DTEND;TZID=Europe/Helsinki:20271119T103000
DTSTAMP:20260424T185502
CREATED:20250114T084740Z
LAST-MODIFIED:20250114T084741Z
UID:10004995-1826616600-1826620200@asb-mb.de
SUMMARY:Sportgruppe "Mit Sport dabei"
DESCRIPTION:Mehr Informationen
URL:https://asb-mb.de/single-event/sportgruppe-mit-sport-dabei-2-2/2027-11-19/
LOCATION:Bürgertreff Königs Wusterhausen\, Herderstraße 8-9\, Königs Wusterhausen\, 15711
CATEGORIES:Demenz
END:VEVENT
BEGIN:VEVENT
DTSTART;TZID=Europe/Helsinki:20271119T103000
DTEND;TZID=Europe/Helsinki:20271119T113000
DTSTAMP:20260424T185502
CREATED:20250114T084749Z
LAST-MODIFIED:20250114T084749Z
UID:10005255-1826620200-1826623800@asb-mb.de
SUMMARY:Sportgruppe "Mit Sport dabei"
DESCRIPTION:Mehr Informationen
URL:https://asb-mb.de/single-event/sportgruppe-mit-sport-dabei-3/2027-11-19/
LOCATION:Bürgertreff Königs Wusterhausen\, Herderstraße 8-9\, Königs Wusterhausen\, 15711
CATEGORIES:Demenz
END:VEVENT
BEGIN:VEVENT
DTSTART;TZID=Europe/Helsinki:20271123T100000
DTEND;TZID=Europe/Helsinki:20271123T130000
DTSTAMP:20260424T185502
CREATED:20250114T084850Z
LAST-MODIFIED:20250114T084850Z
UID:10005516-1826964000-1826974800@asb-mb.de
SUMMARY:Betreuungsgruppe Menschen mit Demenz
DESCRIPTION:Mehr Informationen
URL:https://asb-mb.de/single-event/betreuungsgruppe-menschen-mit-demenz-2/2027-11-23/
LOCATION:Bürgertreff Königs Wusterhausen\, Herderstraße 8-9\, Königs Wusterhausen\, 15711
CATEGORIES:Demenz
END:VEVENT
BEGIN:VEVENT
DTSTART;TZID=Europe/Helsinki:20271126T093000
DTEND;TZID=Europe/Helsinki:20271126T103000
DTSTAMP:20260424T185502
CREATED:20250114T084740Z
LAST-MODIFIED:20250114T084741Z
UID:10004996-1827221400-1827225000@asb-mb.de
SUMMARY:Sportgruppe "Mit Sport dabei"
DESCRIPTION:Mehr Informationen
URL:https://asb-mb.de/single-event/sportgruppe-mit-sport-dabei-2-2/2027-11-26/
LOCATION:Bürgertreff Königs Wusterhausen\, Herderstraße 8-9\, Königs Wusterhausen\, 15711
CATEGORIES:Demenz
END:VEVENT
BEGIN:VEVENT
DTSTART;TZID=Europe/Helsinki:20271126T103000
DTEND;TZID=Europe/Helsinki:20271126T113000
DTSTAMP:20260424T185502
CREATED:20250114T084749Z
LAST-MODIFIED:20250114T084749Z
UID:10005256-1827225000-1827228600@asb-mb.de
SUMMARY:Sportgruppe "Mit Sport dabei"
DESCRIPTION:Mehr Informationen
URL:https://asb-mb.de/single-event/sportgruppe-mit-sport-dabei-3/2027-11-26/
LOCATION:Bürgertreff Königs Wusterhausen\, Herderstraße 8-9\, Königs Wusterhausen\, 15711
CATEGORIES:Demenz
END:VEVENT
BEGIN:VEVENT
DTSTART;TZID=Europe/Helsinki:20271130T100000
DTEND;TZID=Europe/Helsinki:20271130T130000
DTSTAMP:20260424T185502
CREATED:20250114T084850Z
LAST-MODIFIED:20250114T084850Z
UID:10005517-1827568800-1827579600@asb-mb.de
SUMMARY:Betreuungsgruppe Menschen mit Demenz
DESCRIPTION:Mehr Informationen
URL:https://asb-mb.de/single-event/betreuungsgruppe-menschen-mit-demenz-2/2027-11-30/
LOCATION:Bürgertreff Königs Wusterhausen\, Herderstraße 8-9\, Königs Wusterhausen\, 15711
CATEGORIES:Demenz
END:VEVENT
END:VCALENDAR