BEGIN:VCALENDAR
VERSION:2.0
PRODID:-//ASB - ECPv6.15.18//NONSGML v1.0//EN
CALSCALE:GREGORIAN
METHOD:PUBLISH
X-ORIGINAL-URL:https://asb-mb.de
X-WR-CALDESC:Veranstaltungen für ASB
REFRESH-INTERVAL;VALUE=DURATION:PT1H
X-Robots-Tag:noindex
X-PUBLISHED-TTL:PT1H
BEGIN:VTIMEZONE
TZID:Europe/Helsinki
BEGIN:DAYLIGHT
TZOFFSETFROM:+0200
TZOFFSETTO:+0300
TZNAME:EEST
DTSTART:20240331T010000
END:DAYLIGHT
BEGIN:STANDARD
TZOFFSETFROM:+0300
TZOFFSETTO:+0200
TZNAME:EET
DTSTART:20241027T010000
END:STANDARD
BEGIN:DAYLIGHT
TZOFFSETFROM:+0200
TZOFFSETTO:+0300
TZNAME:EEST
DTSTART:20250330T010000
END:DAYLIGHT
BEGIN:STANDARD
TZOFFSETFROM:+0300
TZOFFSETTO:+0200
TZNAME:EET
DTSTART:20251026T010000
END:STANDARD
BEGIN:DAYLIGHT
TZOFFSETFROM:+0200
TZOFFSETTO:+0300
TZNAME:EEST
DTSTART:20260329T010000
END:DAYLIGHT
BEGIN:STANDARD
TZOFFSETFROM:+0300
TZOFFSETTO:+0200
TZNAME:EET
DTSTART:20261025T010000
END:STANDARD
END:VTIMEZONE
BEGIN:VEVENT
DTSTART;TZID=Europe/Helsinki:20250902T100000
DTEND;TZID=Europe/Helsinki:20250902T130000
DTSTAMP:20260422T092151
CREATED:20250114T084850Z
LAST-MODIFIED:20250114T084850Z
UID:10005400-1756807200-1756818000@asb-mb.de
SUMMARY:Betreuungsgruppe Menschen mit Demenz
DESCRIPTION:Mehr Informationen
URL:https://asb-mb.de/single-event/betreuungsgruppe-menschen-mit-demenz-2/2025-09-02/
LOCATION:Bürgertreff Königs Wusterhausen\, Herderstraße 8-9\, Königs Wusterhausen\, 15711
CATEGORIES:Demenz
END:VEVENT
BEGIN:VEVENT
DTSTART;TZID=Europe/Helsinki:20250904T170000
DTEND;TZID=Europe/Helsinki:20250904T190000
DTSTAMP:20260422T092151
CREATED:20250114T084422Z
LAST-MODIFIED:20250114T084422Z
UID:10004795-1757005200-1757012400@asb-mb.de
SUMMARY:Angehörigengruppe Menschen mit Demenz
DESCRIPTION:Mehr Informationen
URL:https://asb-mb.de/single-event/angehoerigengruppe-menschen-mit-demenz-3/2025-09-04/
LOCATION:Brandenburg
CATEGORIES:Demenz
END:VEVENT
BEGIN:VEVENT
DTSTART;TZID=Europe/Helsinki:20250905T093000
DTEND;TZID=Europe/Helsinki:20250905T103000
DTSTAMP:20260422T092151
CREATED:20250114T084740Z
LAST-MODIFIED:20250114T084741Z
UID:10004880-1757064600-1757068200@asb-mb.de
SUMMARY:Sportgruppe "Mit Sport dabei"
DESCRIPTION:Mehr Informationen
URL:https://asb-mb.de/single-event/sportgruppe-mit-sport-dabei-2-2/2025-09-05/
LOCATION:Bürgertreff Königs Wusterhausen\, Herderstraße 8-9\, Königs Wusterhausen\, 15711
CATEGORIES:Demenz
END:VEVENT
BEGIN:VEVENT
DTSTART;TZID=Europe/Helsinki:20250905T103000
DTEND;TZID=Europe/Helsinki:20250905T113000
DTSTAMP:20260422T092151
CREATED:20250114T084749Z
LAST-MODIFIED:20250114T084749Z
UID:10005140-1757068200-1757071800@asb-mb.de
SUMMARY:Sportgruppe "Mit Sport dabei"
DESCRIPTION:Mehr Informationen
URL:https://asb-mb.de/single-event/sportgruppe-mit-sport-dabei-3/2025-09-05/
LOCATION:Bürgertreff Königs Wusterhausen\, Herderstraße 8-9\, Königs Wusterhausen\, 15711
CATEGORIES:Demenz
END:VEVENT
BEGIN:VEVENT
DTSTART;TZID=Europe/Helsinki:20250909T100000
DTEND;TZID=Europe/Helsinki:20250909T130000
DTSTAMP:20260422T092151
CREATED:20250114T084850Z
LAST-MODIFIED:20250114T084850Z
UID:10005401-1757412000-1757422800@asb-mb.de
SUMMARY:Betreuungsgruppe Menschen mit Demenz
DESCRIPTION:Mehr Informationen
URL:https://asb-mb.de/single-event/betreuungsgruppe-menschen-mit-demenz-2/2025-09-09/
LOCATION:Bürgertreff Königs Wusterhausen\, Herderstraße 8-9\, Königs Wusterhausen\, 15711
CATEGORIES:Demenz
END:VEVENT
BEGIN:VEVENT
DTSTART;TZID=Europe/Helsinki:20250912T093000
DTEND;TZID=Europe/Helsinki:20250912T103000
DTSTAMP:20260422T092151
CREATED:20250114T084740Z
LAST-MODIFIED:20250114T084741Z
UID:10004881-1757669400-1757673000@asb-mb.de
SUMMARY:Sportgruppe "Mit Sport dabei"
DESCRIPTION:Mehr Informationen
URL:https://asb-mb.de/single-event/sportgruppe-mit-sport-dabei-2-2/2025-09-12/
LOCATION:Bürgertreff Königs Wusterhausen\, Herderstraße 8-9\, Königs Wusterhausen\, 15711
CATEGORIES:Demenz
END:VEVENT
BEGIN:VEVENT
DTSTART;TZID=Europe/Helsinki:20250912T103000
DTEND;TZID=Europe/Helsinki:20250912T113000
DTSTAMP:20260422T092151
CREATED:20250114T084749Z
LAST-MODIFIED:20250114T084749Z
UID:10005141-1757673000-1757676600@asb-mb.de
SUMMARY:Sportgruppe "Mit Sport dabei"
DESCRIPTION:Mehr Informationen
URL:https://asb-mb.de/single-event/sportgruppe-mit-sport-dabei-3/2025-09-12/
LOCATION:Bürgertreff Königs Wusterhausen\, Herderstraße 8-9\, Königs Wusterhausen\, 15711
CATEGORIES:Demenz
END:VEVENT
BEGIN:VEVENT
DTSTART;TZID=Europe/Helsinki:20250916T100000
DTEND;TZID=Europe/Helsinki:20250916T130000
DTSTAMP:20260422T092151
CREATED:20250114T084850Z
LAST-MODIFIED:20250114T084850Z
UID:10005402-1758016800-1758027600@asb-mb.de
SUMMARY:Betreuungsgruppe Menschen mit Demenz
DESCRIPTION:Mehr Informationen
URL:https://asb-mb.de/single-event/betreuungsgruppe-menschen-mit-demenz-2/2025-09-16/
LOCATION:Bürgertreff Königs Wusterhausen\, Herderstraße 8-9\, Königs Wusterhausen\, 15711
CATEGORIES:Demenz
END:VEVENT
BEGIN:VEVENT
DTSTART;TZID=Europe/Helsinki:20250918T120000
DTEND;TZID=Europe/Helsinki:20250918T140000
DTSTAMP:20260422T092151
CREATED:20250114T084142Z
LAST-MODIFIED:20250114T084142Z
UID:10004736-1758196800-1758204000@asb-mb.de
SUMMARY:Angehörigengruppe Menschen mit Demenz
DESCRIPTION:Mehr Informationen
URL:https://asb-mb.de/single-event/angehoerigengruppe-menschen-mit-demenz-2/2025-09-18/
LOCATION:Brandenburg
CATEGORIES:Demenz
END:VEVENT
BEGIN:VEVENT
DTSTART;TZID=Europe/Helsinki:20250919T093000
DTEND;TZID=Europe/Helsinki:20250919T103000
DTSTAMP:20260422T092151
CREATED:20250114T084740Z
LAST-MODIFIED:20250114T084741Z
UID:10004882-1758274200-1758277800@asb-mb.de
SUMMARY:Sportgruppe "Mit Sport dabei"
DESCRIPTION:Mehr Informationen
URL:https://asb-mb.de/single-event/sportgruppe-mit-sport-dabei-2-2/2025-09-19/
LOCATION:Bürgertreff Königs Wusterhausen\, Herderstraße 8-9\, Königs Wusterhausen\, 15711
CATEGORIES:Demenz
END:VEVENT
BEGIN:VEVENT
DTSTART;TZID=Europe/Helsinki:20250919T103000
DTEND;TZID=Europe/Helsinki:20250919T113000
DTSTAMP:20260422T092151
CREATED:20250114T084749Z
LAST-MODIFIED:20250114T084749Z
UID:10005142-1758277800-1758281400@asb-mb.de
SUMMARY:Sportgruppe "Mit Sport dabei"
DESCRIPTION:Mehr Informationen
URL:https://asb-mb.de/single-event/sportgruppe-mit-sport-dabei-3/2025-09-19/
LOCATION:Bürgertreff Königs Wusterhausen\, Herderstraße 8-9\, Königs Wusterhausen\, 15711
CATEGORIES:Demenz
END:VEVENT
BEGIN:VEVENT
DTSTART;TZID=Europe/Helsinki:20250920T090000
DTEND;TZID=Europe/Helsinki:20250920T153000
DTSTAMP:20260422T092151
CREATED:20241105T140408Z
LAST-MODIFIED:20250218T125602Z
UID:10004653-1758358800-1758382200@asb-mb.de
SUMMARY:Magnetismus - unsichtbare Kräfte entdecken
DESCRIPTION:Mehr Informationen \nZur Anmeldung
URL:https://asb-mb.de/single-event/magnetismus-unsichtbare-kraefte-entdecken/
LOCATION:Werkstatt für Menschen mit Behinderung in Königs Wusterhausen OT Zeesen\, Im Gewerbepark 28\, Königs Wusterhausen OT Zeesen\, Brandenburg\, 15711
CATEGORIES:Kleine Forscher
ATTACH;FMTTYPE=image/jpeg:https://asb-mb.de/wp-content/uploads/2024/11/Kinder-forschen_Christoph-Wehrer-c-Stiftung-Kinder-Forschen-34-scaled.jpg
END:VEVENT
BEGIN:VEVENT
DTSTART;TZID=Europe/Helsinki:20250923T100000
DTEND;TZID=Europe/Helsinki:20250923T130000
DTSTAMP:20260422T092151
CREATED:20250114T084850Z
LAST-MODIFIED:20250114T084850Z
UID:10005403-1758621600-1758632400@asb-mb.de
SUMMARY:Betreuungsgruppe Menschen mit Demenz
DESCRIPTION:Mehr Informationen
URL:https://asb-mb.de/single-event/betreuungsgruppe-menschen-mit-demenz-2/2025-09-23/
LOCATION:Bürgertreff Königs Wusterhausen\, Herderstraße 8-9\, Königs Wusterhausen\, 15711
CATEGORIES:Demenz
END:VEVENT
BEGIN:VEVENT
DTSTART;TZID=Europe/Helsinki:20250926T093000
DTEND;TZID=Europe/Helsinki:20250926T103000
DTSTAMP:20260422T092151
CREATED:20250114T084740Z
LAST-MODIFIED:20250114T084741Z
UID:10004883-1758879000-1758882600@asb-mb.de
SUMMARY:Sportgruppe "Mit Sport dabei"
DESCRIPTION:Mehr Informationen
URL:https://asb-mb.de/single-event/sportgruppe-mit-sport-dabei-2-2/2025-09-26/
LOCATION:Bürgertreff Königs Wusterhausen\, Herderstraße 8-9\, Königs Wusterhausen\, 15711
CATEGORIES:Demenz
END:VEVENT
BEGIN:VEVENT
DTSTART;TZID=Europe/Helsinki:20250926T103000
DTEND;TZID=Europe/Helsinki:20250926T113000
DTSTAMP:20260422T092151
CREATED:20250114T084749Z
LAST-MODIFIED:20250114T084749Z
UID:10005143-1758882600-1758886200@asb-mb.de
SUMMARY:Sportgruppe "Mit Sport dabei"
DESCRIPTION:Mehr Informationen
URL:https://asb-mb.de/single-event/sportgruppe-mit-sport-dabei-3/2025-09-26/
LOCATION:Bürgertreff Königs Wusterhausen\, Herderstraße 8-9\, Königs Wusterhausen\, 15711
CATEGORIES:Demenz
END:VEVENT
BEGIN:VEVENT
DTSTART;TZID=Europe/Helsinki:20250930T100000
DTEND;TZID=Europe/Helsinki:20250930T130000
DTSTAMP:20260422T092151
CREATED:20250114T084850Z
LAST-MODIFIED:20250114T084850Z
UID:10005404-1759226400-1759237200@asb-mb.de
SUMMARY:Betreuungsgruppe Menschen mit Demenz
DESCRIPTION:Mehr Informationen
URL:https://asb-mb.de/single-event/betreuungsgruppe-menschen-mit-demenz-2/2025-09-30/
LOCATION:Bürgertreff Königs Wusterhausen\, Herderstraße 8-9\, Königs Wusterhausen\, 15711
CATEGORIES:Demenz
END:VEVENT
END:VCALENDAR